BEGIN:VCALENDAR
VERSION:2.0
PRODID:-//hacksw/handcal//NONSGML v1.0//EN
BEGIN:VEVENT
UID:84b20b1f5a0d103f5710bb67a043cd78
DTSTAMP;TZID=Europe/Berlin:20260519T183000
DTSTART;TZID=Europe/Berlin:20260519T183000
DTEND;TZID=Europe/Berlin:20260519T210000
SUMMARY:Wir sind das Betriebsklima &#8211; Einladung zum Dialog
LOCATION:München
DESCRIPTION: Zeit:   Dienstag, 19.  Mai 2026, 18.30 - 21:00 Uhr Ort:    München, Schwanthalerstr. 91, kda-Kirchlicher Dienst in der Arbeitswelt(U-Bahnstation Theresienwiese, Ausgang Schwanthalerstraße) Referenten:    
CATEGORIES:Abendveranstaltung-3, Veranstaltungen
END:VEVENT
END:VCALENDAR